BEGIN:VCALENDAR
VERSION:2.0
PRODID:-//Gastronomia Carioca - ECPv6.15.17.1//NONSGML v1.0//EN
CALSCALE:GREGORIAN
METHOD:PUBLISH
X-WR-CALNAME:Gastronomia Carioca
X-ORIGINAL-URL:https://gastronomiacarioca.zonasul.com.br
X-WR-CALDESC:Eventos para Gastronomia Carioca
REFRESH-INTERVAL;VALUE=DURATION:PT1H
X-Robots-Tag:noindex
X-PUBLISHED-TTL:PT1H
BEGIN:VTIMEZONE
TZID:America/Sao_Paulo
BEGIN:STANDARD
TZOFFSETFROM:-0300
TZOFFSETTO:-0300
TZNAME:-03
DTSTART:20250101T000000
END:STANDARD
END:VTIMEZONE
BEGIN:VEVENT
DTSTART;TZID=America/Sao_Paulo:20260131T110000
DTEND;TZID=America/Sao_Paulo:20260131T170000
DTSTAMP:20260421T082433
CREATED:20260126T192131Z
LAST-MODIFIED:20260126T192131Z
UID:28483-1769857200-1769878800@gastronomiacarioca.zonasul.com.br
SUMMARY:Ação Sensorial com a presença do chef Kadu Motta
DESCRIPTION:
URL:https://gastronomiacarioca.zonasul.com.br/evento/acao-sensorial-com-a-presenca-do-chef-kadu-motta/
LOCATION:Zona Sul São Salvador\, Rua Esteves Júnior\, 36 - Laranjeiras\, Rio de Janeiro\, Rio de Janeiro\, 22231-160\, Brazil
CATEGORIES:Festivais e Degustações
ATTACH;FMTTYPE=image/jpeg:https://gastronomiacarioca.zonasul.com.br/wp-content/uploads/2026/01/CAPA-ACAO-SENSORIAL-KADU-MOTTA.jpg
END:VEVENT
END:VCALENDAR