BEGIN:VCALENDAR
VERSION:2.0
PRODID:-//Gastronomia Carioca - ECPv6.15.17.1//NONSGML v1.0//EN
CALSCALE:GREGORIAN
METHOD:PUBLISH
X-ORIGINAL-URL:https://gastronomiacarioca.zonasul.com.br
X-WR-CALDESC:Eventos para Gastronomia Carioca
REFRESH-INTERVAL;VALUE=DURATION:PT1H
X-Robots-Tag:noindex
X-PUBLISHED-TTL:PT1H
BEGIN:VTIMEZONE
TZID:America/Sao_Paulo
BEGIN:STANDARD
TZOFFSETFROM:-0300
TZOFFSETTO:-0300
TZNAME:-03
DTSTART:20250101T000000
END:STANDARD
END:VTIMEZONE
BEGIN:VEVENT
DTSTART;TZID=America/Sao_Paulo:20260307T110000
DTEND;TZID=America/Sao_Paulo:20260307T170000
DTSTAMP:20260421T053449
CREATED:20260303T142709Z
LAST-MODIFIED:20260303T142709Z
UID:28771-1772881200-1772902800@gastronomiacarioca.zonasul.com.br
SUMMARY:Ação Sensorial ZS
DESCRIPTION:
URL:https://gastronomiacarioca.zonasul.com.br/evento/acao-sensorial-zs/
LOCATION:Zona Sul Gláucio Gil\, Av. das Américas\, 16237 - Recreio dos Bandeirantes\, Rio de Janeiro\, Rio de Janeiro\, 22790-701\, Brazil
CATEGORIES:Festivais e Degustações
ATTACH;FMTTYPE=image/jpeg:https://gastronomiacarioca.zonasul.com.br/wp-content/uploads/2026/03/iStock-621376488-1.jpg
END:VEVENT
END:VCALENDAR