BEGIN:VCALENDAR
VERSION:2.0
PRODID:-//Gastronomia Carioca - ECPv6.15.20//NONSGML v1.0//EN
CALSCALE:GREGORIAN
METHOD:PUBLISH
X-WR-CALNAME:Gastronomia Carioca
X-ORIGINAL-URL:https://gastronomiacarioca.zonasul.com.br
X-WR-CALDESC:Eventos para Gastronomia Carioca
REFRESH-INTERVAL;VALUE=DURATION:PT1H
X-Robots-Tag:noindex
X-PUBLISHED-TTL:PT1H
BEGIN:VTIMEZONE
TZID:America/Sao_Paulo
BEGIN:STANDARD
TZOFFSETFROM:-0300
TZOFFSETTO:-0300
TZNAME:-03
DTSTART:20250101T000000
END:STANDARD
END:VTIMEZONE
BEGIN:VEVENT
DTSTART;TZID=America/Sao_Paulo:20260305T160000
DTEND;TZID=America/Sao_Paulo:20260305T190000
DTSTAMP:20260424T091612
CREATED:20260303T134548Z
LAST-MODIFIED:20260303T134548Z
UID:28741-1772726400-1772737200@gastronomiacarioca.zonasul.com.br
SUMMARY:Boteco do Padilha
DESCRIPTION:
URL:https://gastronomiacarioca.zonasul.com.br/evento/boteco-do-padilha-9/
LOCATION:Zona Sul Rainha Elizabeth\, Av. Rainha Elizabeth\, 325 - Copacabana\, Rio de Janeiro\, Rio de Janeiro\, 22081-030\, Brazil
CATEGORIES:Festivais e Degustações
ATTACH;FMTTYPE=image/jpeg:https://gastronomiacarioca.zonasul.com.br/wp-content/uploads/2025/08/CAPA-BOTECO-DO-PADILHA.jpg
END:VEVENT
BEGIN:VEVENT
DTSTART;TZID=America/Sao_Paulo:20260306T110000
DTEND;TZID=America/Sao_Paulo:20260306T140000
DTSTAMP:20260424T091612
CREATED:20260303T135510Z
LAST-MODIFIED:20260303T135510Z
UID:28747-1772794800-1772805600@gastronomiacarioca.zonasul.com.br
SUMMARY:Circuito do Expert José Padilha: Cervejas
DESCRIPTION:
URL:https://gastronomiacarioca.zonasul.com.br/evento/circuito-do-expert-jose-padilha-cervejas-3/
LOCATION:Zona Sul Marquês Abrantes\, Rua Marquês de Abrantes\, 181 - Flamengo\, Rio de Janeiro\, Rio de Janeiro\, 22230-060\, Brazil
CATEGORIES:Circuito dos Experts
ATTACH;FMTTYPE=image/jpeg:https://gastronomiacarioca.zonasul.com.br/wp-content/uploads/2025/11/CIRCUITO-EXPERT-PADILHA.jpg
END:VEVENT
BEGIN:VEVENT
DTSTART;TZID=America/Sao_Paulo:20260306T160000
DTEND;TZID=America/Sao_Paulo:20260306T190000
DTSTAMP:20260424T091612
CREATED:20260303T135712Z
LAST-MODIFIED:20260303T135712Z
UID:28749-1772812800-1772823600@gastronomiacarioca.zonasul.com.br
SUMMARY:Boteco do Padilha
DESCRIPTION:
URL:https://gastronomiacarioca.zonasul.com.br/evento/boteco-do-padilha-10/
LOCATION:Zona Sul Rainha Elizabeth\, Av. Rainha Elizabeth\, 325 - Copacabana\, Rio de Janeiro\, Rio de Janeiro\, 22081-030\, Brazil
CATEGORIES:Festivais e Degustações
ATTACH;FMTTYPE=image/jpeg:https://gastronomiacarioca.zonasul.com.br/wp-content/uploads/2025/08/CAPA-BOTECO-DO-PADILHA.jpg
END:VEVENT
BEGIN:VEVENT
DTSTART;TZID=America/Sao_Paulo:20260312T160000
DTEND;TZID=America/Sao_Paulo:20260312T190000
DTSTAMP:20260424T091612
CREATED:20260309T160608Z
LAST-MODIFIED:20260310T172804Z
UID:28812-1773331200-1773342000@gastronomiacarioca.zonasul.com.br
SUMMARY:Boteco do Padilha
DESCRIPTION:
URL:https://gastronomiacarioca.zonasul.com.br/evento/boteco-do-padilha/
LOCATION:Zona Sul Joaquim Nabuco\, Av. Nossa Senhora de Copacabana\, 1369 - Copacabana\, Rio de Janeiro\, Rio de Janeiro\, 22070-011\, Brazil
CATEGORIES:Festivais e Degustações
ATTACH;FMTTYPE=image/jpeg:https://gastronomiacarioca.zonasul.com.br/wp-content/uploads/2025/11/CIRCUITO-EXPERT-PADILHA.jpg
END:VEVENT
BEGIN:VEVENT
DTSTART;TZID=America/Sao_Paulo:20260313T160000
DTEND;TZID=America/Sao_Paulo:20260313T190000
DTSTAMP:20260424T091612
CREATED:20260309T160704Z
LAST-MODIFIED:20260312T130831Z
UID:28814-1773417600-1773428400@gastronomiacarioca.zonasul.com.br
SUMMARY:Boteco do Padilha
DESCRIPTION:
URL:https://gastronomiacarioca.zonasul.com.br/evento/boteco-do-padilha-2/
LOCATION:Zona Sul Joaquim Nabuco\, Av. Nossa Senhora de Copacabana\, 1369 - Copacabana\, Rio de Janeiro\, Rio de Janeiro\, 22070-011\, Brazil
CATEGORIES:Festivais e Degustações
ATTACH;FMTTYPE=image/jpeg:https://gastronomiacarioca.zonasul.com.br/wp-content/uploads/2025/11/CIRCUITO-EXPERT-PADILHA.jpg
END:VEVENT
END:VCALENDAR