BEGIN:VCALENDAR
VERSION:2.0
PRODID:-//Gastronomia Carioca - ECPv6.15.20//NONSGML v1.0//EN
CALSCALE:GREGORIAN
METHOD:PUBLISH
X-WR-CALNAME:Gastronomia Carioca
X-ORIGINAL-URL:https://gastronomiacarioca.zonasul.com.br
X-WR-CALDESC:Eventos para Gastronomia Carioca
REFRESH-INTERVAL;VALUE=DURATION:PT1H
X-Robots-Tag:noindex
X-PUBLISHED-TTL:PT1H
BEGIN:VTIMEZONE
TZID:America/Sao_Paulo
BEGIN:STANDARD
TZOFFSETFROM:-0300
TZOFFSETTO:-0300
TZNAME:-03
DTSTART:20250101T000000
END:STANDARD
END:VTIMEZONE
BEGIN:VEVENT
DTSTART;TZID=America/Sao_Paulo:20260424T180000
DTEND;TZID=America/Sao_Paulo:20260424T200000
DTSTAMP:20260424T080405
CREATED:20260420T165818Z
LAST-MODIFIED:20260420T165818Z
UID:29338-1777053600-1777060800@gastronomiacarioca.zonasul.com.br
SUMMARY:Boteco do Padilha
DESCRIPTION:
URL:https://gastronomiacarioca.zonasul.com.br/evento/boteco-do-padilha-13/
LOCATION:Zona Sul Voluntários da Pátria\, Rua Voluntários da Pátria\, 190 - Botafogo\, Rio De Janeiro\, Rio de Janeiro\, 22270-012\, Brazil
CATEGORIES:Festivais e Degustações
ATTACH;FMTTYPE=image/jpeg:https://gastronomiacarioca.zonasul.com.br/wp-content/uploads/2025/08/CAPA-BOTECO-DO-PADILHA.jpg
END:VEVENT
BEGIN:VEVENT
DTSTART;TZID=America/Sao_Paulo:20260425T180000
DTEND;TZID=America/Sao_Paulo:20260425T200000
DTSTAMP:20260424T080405
CREATED:20260420T165912Z
LAST-MODIFIED:20260420T165912Z
UID:29340-1777140000-1777147200@gastronomiacarioca.zonasul.com.br
SUMMARY:Boteco do Padilha
DESCRIPTION:
URL:https://gastronomiacarioca.zonasul.com.br/evento/boteco-do-padilha-14/
LOCATION:Zona Sul Voluntários da Pátria\, Rua Voluntários da Pátria\, 190 - Botafogo\, Rio De Janeiro\, Rio de Janeiro\, 22270-012\, Brazil
CATEGORIES:Festivais e Degustações
ATTACH;FMTTYPE=image/jpeg:https://gastronomiacarioca.zonasul.com.br/wp-content/uploads/2025/08/CAPA-BOTECO-DO-PADILHA.jpg
END:VEVENT
END:VCALENDAR