BEGIN:VCALENDAR
VERSION:2.0
PRODID:-//Gastronomia Carioca - ECPv6.15.17.1//NONSGML v1.0//EN
CALSCALE:GREGORIAN
METHOD:PUBLISH
X-ORIGINAL-URL:https://gastronomiacarioca.zonasul.com.br
X-WR-CALDESC:Eventos para Gastronomia Carioca
REFRESH-INTERVAL;VALUE=DURATION:PT1H
X-Robots-Tag:noindex
X-PUBLISHED-TTL:PT1H
BEGIN:VTIMEZONE
TZID:America/Sao_Paulo
BEGIN:STANDARD
TZOFFSETFROM:-0300
TZOFFSETTO:-0300
TZNAME:-03
DTSTART:20250101T000000
END:STANDARD
END:VTIMEZONE
BEGIN:VEVENT
DTSTART;TZID=America/Sao_Paulo:20260204T100000
DTEND;TZID=America/Sao_Paulo:20260204T130000
DTSTAMP:20260419T101711
CREATED:20260202T173127Z
LAST-MODIFIED:20260202T173127Z
UID:28507-1770199200-1770210000@gastronomiacarioca.zonasul.com.br
SUMMARY:Circuito do Expert Carlos Ohata: Peixes & Frutos do Mar
DESCRIPTION:
URL:https://gastronomiacarioca.zonasul.com.br/evento/circuito-do-expert-carlos-ohata-peixes-frutos-do-mar-3/
LOCATION:Zona Sul Olegário Maciel\, Av. Olegário Maciel\, 293 - Barra\, Rio de Janeiro\, Rio de Janeiro\, 22621-200\, Brazil
CATEGORIES:Circuito dos Experts
ATTACH;FMTTYPE=image/jpeg:https://gastronomiacarioca.zonasul.com.br/wp-content/uploads/2025/07/CIRCUITO-EXPERT-OHATA.jpg
END:VEVENT
BEGIN:VEVENT
DTSTART;TZID=America/Sao_Paulo:20260205T113000
DTEND;TZID=America/Sao_Paulo:20260205T140000
DTSTAMP:20260419T101711
CREATED:20260202T181006Z
LAST-MODIFIED:20260202T181006Z
UID:28518-1770291000-1770300000@gastronomiacarioca.zonasul.com.br
SUMMARY:Circuito do Expert Carlos Ohata: Peixes & Frutos do Mar
DESCRIPTION:
URL:https://gastronomiacarioca.zonasul.com.br/evento/circuito-do-expert-carlos-ohata-peixes-frutos-do-mar-4/
LOCATION:Zona Sul Santa Mônica\, Av. das Américas\, 8888 - Barra\, Rio de Janeiro\, Rio de Janeiro\, 22790-701\, Brazil
CATEGORIES:Circuito dos Experts
ATTACH;FMTTYPE=image/jpeg:https://gastronomiacarioca.zonasul.com.br/wp-content/uploads/2025/07/CIRCUITO-EXPERT-OHATA.jpg
END:VEVENT
END:VCALENDAR