BEGIN:VCALENDAR
VERSION:2.0
PRODID:-//Gastronomia Carioca - ECPv6.15.17.1//NONSGML v1.0//EN
CALSCALE:GREGORIAN
METHOD:PUBLISH
X-ORIGINAL-URL:https://gastronomiacarioca.zonasul.com.br
X-WR-CALDESC:Eventos para Gastronomia Carioca
REFRESH-INTERVAL;VALUE=DURATION:PT1H
X-Robots-Tag:noindex
X-PUBLISHED-TTL:PT1H
BEGIN:VTIMEZONE
TZID:America/Sao_Paulo
BEGIN:STANDARD
TZOFFSETFROM:-0300
TZOFFSETTO:-0300
TZNAME:-03
DTSTART:20250101T000000
END:STANDARD
END:VTIMEZONE
BEGIN:VEVENT
DTSTART;TZID=America/Sao_Paulo:20260303T190000
DTEND;TZID=America/Sao_Paulo:20260303T210000
DTSTAMP:20260421T082052
CREATED:20260303T183645Z
LAST-MODIFIED:20260303T183645Z
UID:28788-1772564400-1772571600@gastronomiacarioca.zonasul.com.br
SUMMARY:Aula Estação Sabores - Páscoa Mediterrânea: Entre o Mar e a Terra
DESCRIPTION:Uma aula que celebra a riqueza dos ingredientes e a simbologia da Páscoa através de preparos que unem tradição e elegância. \nNesta aula gastronômica de Páscoa\, você é nosso convidado para viver uma experiência prática\, saborosa e inspiradora ao lado do Expert Christophe Lidy e do Chef Zona Sul André Migão. Juntos\, eles irão ensinar preparos clássicos e cheios de significado para tornar o seu Domingo de Páscoa ainda mais especial. \n\nNo menu\, um elegante Panaché de cordeiro com favas\, a tradicional e reconfortante Lasanha de bacalhau\, e para finalizar\, uma delicada Panna cotta de frutas vermelhas. Receitas pensadas para serem facilmente replicadas em casa\, levando técnica\, afeto e sofisticação à sua mesa de Páscoa. \nNão perca!
URL:https://gastronomiacarioca.zonasul.com.br/evento/aula-estacao-sabores-pascoa-mediterranea-entre-o-mar-e-a-terra/
LOCATION:Zona Sul Barão da Torre\, Rua Barão da Torre\, 220 - Ipanema\, Rio de Janeiro\, Rio de Janeiro\, 22411-000\, Brazil
CATEGORIES:Estação Sabores
ATTACH;FMTTYPE=image/jpeg:https://gastronomiacarioca.zonasul.com.br/wp-content/uploads/2026/03/AULA-1.jpg
END:VEVENT
END:VCALENDAR