BEGIN:VCALENDAR
VERSION:2.0
PRODID:-//Gastronomia Carioca - ECPv6.15.17.1//NONSGML v1.0//EN
CALSCALE:GREGORIAN
METHOD:PUBLISH
X-ORIGINAL-URL:https://gastronomiacarioca.zonasul.com.br
X-WR-CALDESC:Eventos para Gastronomia Carioca
REFRESH-INTERVAL;VALUE=DURATION:PT1H
X-Robots-Tag:noindex
X-PUBLISHED-TTL:PT1H
BEGIN:VTIMEZONE
TZID:America/Sao_Paulo
BEGIN:STANDARD
TZOFFSETFROM:-0300
TZOFFSETTO:-0300
TZNAME:-03
DTSTART:20250101T000000
END:STANDARD
END:VTIMEZONE
BEGIN:VEVENT
DTSTART;TZID=America/Sao_Paulo:20260317T190000
DTEND;TZID=America/Sao_Paulo:20260317T203000
DTSTAMP:20260419T163054
CREATED:20260316T165938Z
LAST-MODIFIED:20260316T165938Z
UID:28940-1773774000-1773779400@gastronomiacarioca.zonasul.com.br
SUMMARY:Aula Estação Sabores: SABORES DE PÁSCOA - Sopa de melão c/ parma\, Lombo de Salmão com Risotto e Taça pasqualina
DESCRIPTION:Nesta Páscoa\, viva uma experiência gastronômica única com o talento do Chef Zona Sul David Eleutério. Uma aula especial que celebra tradição e sofisticação em cada detalhe do menu. \nNeste curso\, você vai aprender a preparar uma elegante Sopa de Melão com Crisp de Parma e Redução de Vinho do Porto. \nPara o prato principal\, David nos traz um surpreendente Lombo de Salmão com Risoto de Bacalhau e Crocante de Batatas\, unindo delicadeza e intensidade de sabores. \nPara finalizar\, uma deliciosa Taça Pasqualina\, uma sobremesa que traduz a doçura e o espírito da Páscoa. \nNão perca! \nSerá noite para celebrar técnica\, criatividade e os sabores que tornam a Páscoa ainda mais memorável.
URL:https://gastronomiacarioca.zonasul.com.br/evento/aula-estacao-sabores-sabores-de-pascoa-sopa-de-melao-c-parma-lombo-de-salmao-com-risotto-e-taca-pasqualina/
LOCATION:Zona Sul Barão da Torre\, Rua Barão da Torre\, 220 - Ipanema\, Rio de Janeiro\, Rio de Janeiro\, 22411-000\, Brazil
CATEGORIES:Estação Sabores
ATTACH;FMTTYPE=image/jpeg:https://gastronomiacarioca.zonasul.com.br/wp-content/uploads/2026/03/AULA-1-1.jpg
END:VEVENT
END:VCALENDAR