BEGIN:VCALENDAR
VERSION:2.0
PRODID:-//Gastronomia Carioca - ECPv6.15.20//NONSGML v1.0//EN
CALSCALE:GREGORIAN
METHOD:PUBLISH
X-ORIGINAL-URL:https://gastronomiacarioca.zonasul.com.br
X-WR-CALDESC:Eventos para Gastronomia Carioca
REFRESH-INTERVAL;VALUE=DURATION:PT1H
X-Robots-Tag:noindex
X-PUBLISHED-TTL:PT1H
BEGIN:VTIMEZONE
TZID:America/Sao_Paulo
BEGIN:STANDARD
TZOFFSETFROM:-0300
TZOFFSETTO:-0300
TZNAME:-03
DTSTART:20250101T000000
END:STANDARD
END:VTIMEZONE
BEGIN:VEVENT
DTSTART;TZID=America/Sao_Paulo:20260206T100000
DTEND;TZID=America/Sao_Paulo:20260206T170000
DTSTAMP:20260425T090103
CREATED:20260202T183959Z
LAST-MODIFIED:20260202T183959Z
UID:28544-1770372000-1770397200@gastronomiacarioca.zonasul.com.br
SUMMARY:Feira de Orgânicos
DESCRIPTION:Do campo para sua mesaFeira de Orgânicos. Venha conhecer.
URL:https://gastronomiacarioca.zonasul.com.br/evento/feira-de-organicos-11/
LOCATION:Zona Sul São Clemente\, Rua São Clemente\, 114 - Botafogo\, Rio de Janeiro\, Rio de Janeiro\, 22260-002\, Brazil
CATEGORIES:Festivais e Degustações
ATTACH;FMTTYPE=image/jpeg:https://gastronomiacarioca.zonasul.com.br/wp-content/uploads/2025/08/feira-de-organico.jpg
END:VEVENT
BEGIN:VEVENT
DTSTART;TZID=America/Sao_Paulo:20260207T100000
DTEND;TZID=America/Sao_Paulo:20260207T170000
DTSTAMP:20260425T090103
CREATED:20260202T184128Z
LAST-MODIFIED:20260202T184128Z
UID:28546-1770458400-1770483600@gastronomiacarioca.zonasul.com.br
SUMMARY:Feira de Orgânicos
DESCRIPTION:Do campo para sua mesaFeira de Orgânicos. Venha conhecer.
URL:https://gastronomiacarioca.zonasul.com.br/evento/feira-de-organicos-12/
LOCATION:Zona Sul São Clemente\, Rua São Clemente\, 114 - Botafogo\, Rio de Janeiro\, Rio de Janeiro\, 22260-002\, Brazil
CATEGORIES:Festivais e Degustações
ATTACH;FMTTYPE=image/jpeg:https://gastronomiacarioca.zonasul.com.br/wp-content/uploads/2025/08/feira-de-organico.jpg
END:VEVENT
BEGIN:VEVENT
DTSTART;TZID=America/Sao_Paulo:20260220T100000
DTEND;TZID=America/Sao_Paulo:20260220T170000
DTSTAMP:20260425T090103
CREATED:20260213T173935Z
LAST-MODIFIED:20260213T173935Z
UID:28620-1771581600-1771606800@gastronomiacarioca.zonasul.com.br
SUMMARY:Feira de Orgânicos
DESCRIPTION:Feira de Orgânicos. Venha conhecer.
URL:https://gastronomiacarioca.zonasul.com.br/evento/feira-de-organicos-13/
LOCATION:Zona Sul Voluntários da Pátria\, Rua Voluntários da Pátria\, 190 - Botafogo\, Rio De Janeiro\, Rio de Janeiro\, 22270-012\, Brazil
CATEGORIES:Festivais e Degustações
ATTACH;FMTTYPE=image/jpeg:https://gastronomiacarioca.zonasul.com.br/wp-content/uploads/2025/08/feira-de-organico.jpg
END:VEVENT
BEGIN:VEVENT
DTSTART;TZID=America/Sao_Paulo:20260221T100000
DTEND;TZID=America/Sao_Paulo:20260221T170000
DTSTAMP:20260425T090103
CREATED:20260213T174300Z
LAST-MODIFIED:20260213T174300Z
UID:28622-1771668000-1771693200@gastronomiacarioca.zonasul.com.br
SUMMARY:Feira de Orgânicos
DESCRIPTION:Feira de Orgânicos. Venha conhecer.
URL:https://gastronomiacarioca.zonasul.com.br/evento/feira-de-organicos-14/
LOCATION:Zona Sul Voluntários da Pátria\, Rua Voluntários da Pátria\, 190 - Botafogo\, Rio De Janeiro\, Rio de Janeiro\, 22270-012\, Brazil
CATEGORIES:Festivais e Degustações
ATTACH;FMTTYPE=image/jpeg:https://gastronomiacarioca.zonasul.com.br/wp-content/uploads/2025/08/feira-de-organico.jpg
END:VEVENT
BEGIN:VEVENT
DTSTART;TZID=America/Sao_Paulo:20260227T100000
DTEND;TZID=America/Sao_Paulo:20260227T170000
DTSTAMP:20260425T090103
CREATED:20260223T172036Z
LAST-MODIFIED:20260223T172036Z
UID:28685-1772186400-1772211600@gastronomiacarioca.zonasul.com.br
SUMMARY:Feira de Orgânicos
DESCRIPTION:
URL:https://gastronomiacarioca.zonasul.com.br/evento/feira-de-organicos-15/
LOCATION:Zona Sul Pacheco Leão\, Rua Pacheco Leão\, 16 - Jardim Botânico\, Rio de Janeiro\, Rio de Janeiro\, 22460-030\, Brazil
CATEGORIES:Festivais e Degustações
ATTACH;FMTTYPE=image/jpeg:https://gastronomiacarioca.zonasul.com.br/wp-content/uploads/2025/07/CAPA-FEIRA-DE-ORGANICOS.jpg
END:VEVENT
BEGIN:VEVENT
DTSTART;TZID=America/Sao_Paulo:20260228T100000
DTEND;TZID=America/Sao_Paulo:20260228T170000
DTSTAMP:20260425T090103
CREATED:20260223T174058Z
LAST-MODIFIED:20260223T174058Z
UID:28687-1772272800-1772298000@gastronomiacarioca.zonasul.com.br
SUMMARY:Feira de Orgânicos
DESCRIPTION:
URL:https://gastronomiacarioca.zonasul.com.br/evento/feira-de-organicos-16/
LOCATION:Zona Sul Pacheco Leão\, Rua Pacheco Leão\, 16 - Jardim Botânico\, Rio de Janeiro\, Rio de Janeiro\, 22460-030\, Brazil
CATEGORIES:Festivais e Degustações
ATTACH;FMTTYPE=image/jpeg:https://gastronomiacarioca.zonasul.com.br/wp-content/uploads/2025/07/CAPA-FEIRA-DE-ORGANICOS.jpg
END:VEVENT
END:VCALENDAR