BEGIN:VCALENDAR
VERSION:2.0
PRODID:-//Gastronomia Carioca - ECPv6.15.17.1//NONSGML v1.0//EN
CALSCALE:GREGORIAN
METHOD:PUBLISH
X-ORIGINAL-URL:https://gastronomiacarioca.zonasul.com.br
X-WR-CALDESC:Eventos para Gastronomia Carioca
REFRESH-INTERVAL;VALUE=DURATION:PT1H
X-Robots-Tag:noindex
X-PUBLISHED-TTL:PT1H
BEGIN:VTIMEZONE
TZID:America/Sao_Paulo
BEGIN:STANDARD
TZOFFSETFROM:-0300
TZOFFSETTO:-0300
TZNAME:-03
DTSTART:20250101T000000
END:STANDARD
END:VTIMEZONE
BEGIN:VEVENT
DTSTART;TZID=America/Sao_Paulo:20260320T190000
DTEND;TZID=America/Sao_Paulo:20260320T203000
DTSTAMP:20260419T105516
CREATED:20260316T170559Z
LAST-MODIFIED:20260316T170559Z
UID:28949-1774033200-1774038600@gastronomiacarioca.zonasul.com.br
SUMMARY:Aula Estação Sabores: Do Mar ao Chocolate - Uma Jornada Enogastronômica
DESCRIPTION:Nesta Páscoa\, prepare-se para uma experiência gastronômica cheia de personalidade com o Chef convidado Vinicius Nunes. \nNo menu\, uma sofisticada Salada Waldorf de camarão com redução asiática e farofa de bacon abre a noite com frescor e intensidade. \nComo prato principal\, um surpreendente Baião do Mar cremoso com peixe crocante\, molho lambão e crispy de couve\, unindo tradição brasileira e sabores do mar. \nPara encerrar\, a irresistível Tarte de chocolate Três Amores com molho de cappuccino\, equilibrando doçura e elegância. \nA harmonização fica por conta do Mixologista Claudio Adriano\, que conduzirá a experiência com 3 drinks à base de vinho\, criando combinações que elevam cada preparo. \n\nUma aula para celebrar a Páscoa com técnica\, criatividade e muito sabor. \nNão perca! \nA venda e o consumo de bebidas alcoólicas são proibidos para menores de 18 anos.
URL:https://gastronomiacarioca.zonasul.com.br/evento/aula-estacao-sabores-do-mar-ao-chocolate-uma-jornada-enogastronomica/
LOCATION:Zona Sul Santa Mônica\, Av. das Américas\, 8888 - Barra\, Rio de Janeiro\, Rio de Janeiro\, 22790-701\, Brazil
CATEGORIES:Estação Sabores
ATTACH;FMTTYPE=image/jpeg:https://gastronomiacarioca.zonasul.com.br/wp-content/uploads/2026/03/AULA-4.jpg
END:VEVENT
END:VCALENDAR